BEGIN:VCALENDAR
VERSION:2.0
PRODID:-//Contratero//ES
CALSCALE:GREGORIAN
METHOD:PUBLISH
BEGIN:VEVENT
UID:PRE  10-2021@contratero.es
DTSTAMP:20260424T231858Z
DTSTART:20201228T235959
DTEND:20201229T005959
SUMMARY:Cierre: Mantenimiento y desarrollo evolutivo del Sistema d
DESCRIPTION:Mantenimiento y desarrollo evolutivo del Sistema de Información AVANTIUS Sistema de Gestión\nJudicial en la Administración de Justicia de la Comunidad Autónoma de Aragón\\n\\nOrganismo: Departamento de Presidencia y Relaciones Institucionales\\n\\nVer en Contratero: https://contratero.es/contracts/PRE  10-2021
URL:https://contratero.es/contracts/PRE  10-2021
STATUS:CONFIRMED
BEGIN:VALARM
TRIGGER:-P1D
ACTION:DISPLAY
DESCRIPTION:Recordatorio: Mantenimiento y desarrollo evo
END:VALARM
END:VEVENT
END:VCALENDAR